BEGIN:VCALENDAR
VERSION:2.0
PRODID:-//SortMySpace - ECPv4.6.13//NONSGML v1.0//EN
CALSCALE:GREGORIAN
METHOD:PUBLISH
X-WR-CALNAME:SortMySpace
X-ORIGINAL-URL:https://www.sortmyspace.co.uk
X-WR-CALDESC:Events for SortMySpace
BEGIN:VEVENT
DTSTART;TZID=UTC+0:20210330T193000
DTEND;TZID=UTC+0:20210330T210000
DTSTAMP:20260421T085848
CREATED:20210301T164509Z
LAST-MODIFIED:20210301T164509Z
UID:1564-1617132600-1617138000@www.sortmyspace.co.uk
SUMMARY:Frampton Cotterell WI talk: Sort My Stuff Out
DESCRIPTION:To inspire the Frampton Cotterell WI group with a #springclear\, Katherine Blackler of SortMySpace Ltd will be giving WI members the lowdown on her job as a professional organiser and declutterer as well as practical tips they can take away and try at home or work. \nNB: Due to Covid restrictions this will be a virtual meeting. \nFor more information about joining this branch of the Women’s Institute or attending this Zoom meeting please go to  https://www.facebook.com/FramptonCottWI  \n
URL:https://www.sortmyspace.co.uk/events/frampton-cotterell-talk-sort-my-stuff-out/
ATTACH;FMTTYPE=image/jpeg:https://www.sortmyspace.co.uk/wp-content/uploads/2021/01/womensinstitutelogo.jpg
END:VEVENT
END:VCALENDAR