BEGIN:VCALENDAR
VERSION:2.0
PRODID:-//SortMySpace - ECPv4.6.13//NONSGML v1.0//EN
CALSCALE:GREGORIAN
METHOD:PUBLISH
X-WR-CALNAME:SortMySpace
X-ORIGINAL-URL:https://www.sortmyspace.co.uk
X-WR-CALDESC:Events for SortMySpace
BEGIN:VEVENT
DTSTART;TZID=UTC+0:20210211T190000
DTEND;TZID=UTC+0:20210211T203000
DTSTAMP:20260422T082151
CREATED:20210114T135842Z
LAST-MODIFIED:20210201T100739Z
UID:1516-1613070000-1613075400@www.sortmyspace.co.uk
SUMMARY:North Shields WI talk: Sort My Stuff Out
DESCRIPTION:To inspire the North Shields WI group with a #springclear\, Katherine Blackler of SortMySpace Ltd will be giving WI members the lowdown on her job as a professional organiser and declutterer as well as practical tips they can take away and try at home or work. \nNB: Due to Covid restrictions this will be a virtual meeting. \nFor more information about joining this branch of the Women’s Institute or attending this Zoom meeting please go to https://www.facebook.com/North-Shields-Womens-Institute-2322882837977914/ \n
URL:https://www.sortmyspace.co.uk/events/north-shields-wi-sort-stuff/
ATTACH;FMTTYPE=image/jpeg:https://www.sortmyspace.co.uk/wp-content/uploads/2021/01/womensinstitutelogo.jpg
END:VEVENT
END:VCALENDAR