BEGIN:VCALENDAR
VERSION:2.0
PRODID:-//SortMySpace - ECPv4.6.13//NONSGML v1.0//EN
CALSCALE:GREGORIAN
METHOD:PUBLISH
X-WR-CALNAME:SortMySpace
X-ORIGINAL-URL:https://www.sortmyspace.co.uk
X-WR-CALDESC:Events for SortMySpace
BEGIN:VEVENT
DTSTART;TZID=UTC+0:20240918T183000
DTEND;TZID=UTC+0:20240918T203000
DTSTAMP:20260419T140009
CREATED:20240309T155916Z
LAST-MODIFIED:20240309T155916Z
UID:2070-1726684200-1726691400@www.sortmyspace.co.uk
SUMMARY:West End WI talk: Sort My Stuff Out
DESCRIPTION:To inspire the London West End WI during National Organising Week 2024\, Katherine Blackler of SortMySpace Ltd will be giving its members insights on her job as a professional organiser and declutterer as well as practical tips they can take away and try at home or work. \nThis will be an in-person meeting running 6.30pm – 8.30pm. \nFor more information about joining this branch of the Women’s Institute or attending this meeting please contact Londonwestendwi@gmail.com \n  \n
URL:https://www.sortmyspace.co.uk/events/west-end-wi-talk-sort-my-stuff-out/
LOCATION:Upper Vestry Hall\, St. Georges\, Little Russell Street\,\, London\, WC1A 2SA
ATTACH;FMTTYPE=image/jpeg:https://www.sortmyspace.co.uk/wp-content/uploads/2021/01/womensinstitutelogo.jpg
END:VEVENT
END:VCALENDAR