BEGIN:VCALENDAR
VERSION:2.0
PRODID:-//SortMySpace - ECPv4.6.13//NONSGML v1.0//EN
CALSCALE:GREGORIAN
METHOD:PUBLISH
X-WR-CALNAME:SortMySpace
X-ORIGINAL-URL:https://www.sortmyspace.co.uk
X-WR-CALDESC:Events for SortMySpace
BEGIN:VEVENT
DTSTART;TZID=UTC+0:20250109T100000
DTEND;TZID=UTC+0:20250109T120000
DTSTAMP:20260419T190310
CREATED:20240208T235031Z
LAST-MODIFIED:20240208T235326Z
UID:2014-1736416800-1736424000@www.sortmyspace.co.uk
SUMMARY:West Wickham WI talk: Sort My Stuff Out
DESCRIPTION:To inspire the West Wickham WI for 2025\, Katherine Blackler of SortMySpace Ltd will be giving its members insights on her job as a professional organiser and declutterer as well as practical tips they can take away and try at home or work. \nThis will be an in-person meeting starting  10am and running until 12 noon. \nFor more information about joining this branch of the Women’s Institute or attending this meeting please go to https://west-kent.thewi.org.uk/find-wi/west-wickham \n  \n
URL:https://www.sortmyspace.co.uk/events/west-wickham-wi/
LOCATION:The Grove\, West Wickham\, BR4 9JS\, United Kingdom
ATTACH;FMTTYPE=image/jpeg:https://www.sortmyspace.co.uk/wp-content/uploads/2021/01/womensinstitutelogo.jpg
END:VEVENT
END:VCALENDAR